BEGIN:VCALENDAR
VERSION:2.0
PRODID:-//The Timbers Of Northwood - ECPv6.15.20//NONSGML v1.0//EN
CALSCALE:GREGORIAN
METHOD:PUBLISH
X-WR-CALNAME:The Timbers Of Northwood
X-ORIGINAL-URL:https://thetimbersofnorthwood.com
X-WR-CALDESC:Events for The Timbers Of Northwood
REFRESH-INTERVAL;VALUE=DURATION:PT1H
X-Robots-Tag:noindex
X-PUBLISHED-TTL:PT1H
BEGIN:VTIMEZONE
TZID:UTC
BEGIN:STANDARD
TZOFFSETFROM:+0000
TZOFFSETTO:+0000
TZNAME:UTC
DTSTART:20250101T000000
END:STANDARD
END:VTIMEZONE
BEGIN:VEVENT
DTSTART;VALUE=DATE:20260425
DTEND;VALUE=DATE:20260426
DTSTAMP:20260420T132910
CREATED:20260416T152903Z
LAST-MODIFIED:20260416T152903Z
UID:1179-1777075200-1777161599@thetimbersofnorthwood.com
SUMMARY:Boozell bday party
DESCRIPTION:
URL:https://thetimbersofnorthwood.com/event/boozell-bday-party/
END:VEVENT
BEGIN:VEVENT
DTSTART;VALUE=DATE:20260509
DTEND;VALUE=DATE:20260510
DTSTAMP:20260420T132910
CREATED:20260416T152927Z
LAST-MODIFIED:20260416T152927Z
UID:1181-1778284800-1778371199@thetimbersofnorthwood.com
SUMMARY:Dr Block funeral
DESCRIPTION:
URL:https://thetimbersofnorthwood.com/event/dr-block-funeral/
END:VEVENT
BEGIN:VEVENT
DTSTART;VALUE=DATE:20260515
DTEND;VALUE=DATE:20260516
DTSTAMP:20260420T132910
CREATED:20260416T153000Z
LAST-MODIFIED:20260416T153000Z
UID:1183-1778803200-1778889599@thetimbersofnorthwood.com
SUMMARY:Berry grad
DESCRIPTION:
URL:https://thetimbersofnorthwood.com/event/berry-grad/
END:VEVENT
BEGIN:VEVENT
DTSTART;VALUE=DATE:20260516
DTEND;VALUE=DATE:20260517
DTSTAMP:20260420T132910
CREATED:20260416T153019Z
LAST-MODIFIED:20260416T153019Z
UID:1185-1778889600-1778975999@thetimbersofnorthwood.com
SUMMARY:Rheingans grad
DESCRIPTION:
URL:https://thetimbersofnorthwood.com/event/rheingans-grad/
END:VEVENT
BEGIN:VEVENT
DTSTART;VALUE=DATE:20260517
DTEND;VALUE=DATE:20260518
DTSTAMP:20260420T132910
CREATED:20260416T153040Z
LAST-MODIFIED:20260416T153040Z
UID:1187-1778976000-1779062399@thetimbersofnorthwood.com
SUMMARY:Willand grad
DESCRIPTION:
URL:https://thetimbersofnorthwood.com/event/willand-grad/
END:VEVENT
BEGIN:VEVENT
DTSTART;VALUE=DATE:20260529
DTEND;VALUE=DATE:20260601
DTSTAMP:20260420T132910
CREATED:20260413T183846Z
LAST-MODIFIED:20260413T183846Z
UID:1102-1780012800-1780271999@thetimbersofnorthwood.com
SUMMARY:Charlton wedding
DESCRIPTION:
URL:https://thetimbersofnorthwood.com/event/charlton-wedding/
END:VEVENT
BEGIN:VEVENT
DTSTART;VALUE=DATE:20260602
DTEND;VALUE=DATE:20260604
DTSTAMP:20260420T132910
CREATED:20260416T153108Z
LAST-MODIFIED:20260416T153108Z
UID:1189-1780358400-1780531199@thetimbersofnorthwood.com
SUMMARY:Worth Co. Elections
DESCRIPTION:
URL:https://thetimbersofnorthwood.com/event/worth-co-elections/
END:VEVENT
BEGIN:VEVENT
DTSTART;VALUE=DATE:20260605
DTEND;VALUE=DATE:20260608
DTSTAMP:20260420T132910
CREATED:20260413T183920Z
LAST-MODIFIED:20260413T183920Z
UID:1104-1780617600-1780876799@thetimbersofnorthwood.com
SUMMARY:Luttrell/O'Rourke
DESCRIPTION:
URL:https://thetimbersofnorthwood.com/event/luttrell-orourke/
END:VEVENT
BEGIN:VEVENT
DTSTART;VALUE=DATE:20260613
DTEND;VALUE=DATE:20260614
DTSTAMP:20260420T132910
CREATED:20260416T153133Z
LAST-MODIFIED:20260416T153133Z
UID:1191-1781308800-1781395199@thetimbersofnorthwood.com
SUMMARY:Houg grad
DESCRIPTION:
URL:https://thetimbersofnorthwood.com/event/houg-grad/
END:VEVENT
BEGIN:VEVENT
DTSTART;VALUE=DATE:20260619
DTEND;VALUE=DATE:20260622
DTSTAMP:20260420T132910
CREATED:20260413T184033Z
LAST-MODIFIED:20260413T184033Z
UID:1106-1781827200-1782086399@thetimbersofnorthwood.com
SUMMARY:Solberg/Nelson
DESCRIPTION:
URL:https://thetimbersofnorthwood.com/event/solberg-nelson/
END:VEVENT
BEGIN:VEVENT
DTSTART;VALUE=DATE:20260626
DTEND;VALUE=DATE:20260629
DTSTAMP:20260420T132910
CREATED:20260413T184158Z
LAST-MODIFIED:20260413T184158Z
UID:1108-1782432000-1782691199@thetimbersofnorthwood.com
SUMMARY:Ryks/Waldemar
DESCRIPTION:
URL:https://thetimbersofnorthwood.com/event/ryks-waldemar/
END:VEVENT
BEGIN:VEVENT
DTSTART;VALUE=DATE:20260710
DTEND;VALUE=DATE:20260713
DTSTAMP:20260420T132910
CREATED:20260413T184311Z
LAST-MODIFIED:20260413T184311Z
UID:1110-1783641600-1783900799@thetimbersofnorthwood.com
SUMMARY:Stanley/Howes
DESCRIPTION:
URL:https://thetimbersofnorthwood.com/event/stanley-howes/
END:VEVENT
BEGIN:VEVENT
DTSTART;VALUE=DATE:20260717
DTEND;VALUE=DATE:20260719
DTSTAMP:20260420T132910
CREATED:20260416T153225Z
LAST-MODIFIED:20260416T153225Z
UID:1193-1784246400-1784419199@thetimbersofnorthwood.com
SUMMARY:Menjivar quincenera
DESCRIPTION:
URL:https://thetimbersofnorthwood.com/event/menjivar-quincenera/
END:VEVENT
BEGIN:VEVENT
DTSTART;VALUE=DATE:20260719
DTEND;VALUE=DATE:20260720
DTSTAMP:20260420T132910
CREATED:20260416T153306Z
LAST-MODIFIED:20260416T153306Z
UID:1195-1784419200-1784505599@thetimbersofnorthwood.com
SUMMARY:Sipple/Brockman shower
DESCRIPTION:
URL:https://thetimbersofnorthwood.com/event/sipple-brockman-shower/
END:VEVENT
BEGIN:VEVENT
DTSTART;VALUE=DATE:20260725
DTEND;VALUE=DATE:20260726
DTSTAMP:20260420T132910
CREATED:20260416T153702Z
LAST-MODIFIED:20260416T153702Z
UID:1203-1784937600-1785023999@thetimbersofnorthwood.com
SUMMARY:Kozoliek party
DESCRIPTION:
URL:https://thetimbersofnorthwood.com/event/kozoliek-party/
END:VEVENT
BEGIN:VEVENT
DTSTART;VALUE=DATE:20260801
DTEND;VALUE=DATE:20260802
DTSTAMP:20260420T132910
CREATED:20260416T153728Z
LAST-MODIFIED:20260416T153728Z
UID:1205-1785542400-1785628799@thetimbersofnorthwood.com
SUMMARY:Rivera Quincenera
DESCRIPTION:
URL:https://thetimbersofnorthwood.com/event/rivera-quincenera/
END:VEVENT
BEGIN:VEVENT
DTSTART;VALUE=DATE:20260807
DTEND;VALUE=DATE:20260810
DTSTAMP:20260420T132910
CREATED:20260413T184340Z
LAST-MODIFIED:20260413T184340Z
UID:1112-1786060800-1786319999@thetimbersofnorthwood.com
SUMMARY:Weaver/Jones
DESCRIPTION:
URL:https://thetimbersofnorthwood.com/event/weaver-jones/
END:VEVENT
BEGIN:VEVENT
DTSTART;VALUE=DATE:20260814
DTEND;VALUE=DATE:20260817
DTSTAMP:20260420T132910
CREATED:20260413T184412Z
LAST-MODIFIED:20260413T184412Z
UID:1114-1786665600-1786924799@thetimbersofnorthwood.com
SUMMARY:Batton/Kraft
DESCRIPTION:
URL:https://thetimbersofnorthwood.com/event/batton-kraft/
END:VEVENT
BEGIN:VEVENT
DTSTART;VALUE=DATE:20260821
DTEND;VALUE=DATE:20260824
DTSTAMP:20260420T132910
CREATED:20260413T184441Z
LAST-MODIFIED:20260413T184441Z
UID:1116-1787270400-1787529599@thetimbersofnorthwood.com
SUMMARY:Berg/Forland
DESCRIPTION:
URL:https://thetimbersofnorthwood.com/event/berg-forland/
END:VEVENT
BEGIN:VEVENT
DTSTART;VALUE=DATE:20260828
DTEND;VALUE=DATE:20260831
DTSTAMP:20260420T132910
CREATED:20260413T184508Z
LAST-MODIFIED:20260413T184508Z
UID:1118-1787875200-1788134399@thetimbersofnorthwood.com
SUMMARY:Kraft/Goskeson
DESCRIPTION:
URL:https://thetimbersofnorthwood.com/event/kraft-goskeson/
END:VEVENT
BEGIN:VEVENT
DTSTART;VALUE=DATE:20260904
DTEND;VALUE=DATE:20260907
DTSTAMP:20260420T132910
CREATED:20260416T145948Z
LAST-MODIFIED:20260416T145948Z
UID:1121-1788480000-1788739199@thetimbersofnorthwood.com
SUMMARY:Thoma/Swenson
DESCRIPTION:
URL:https://thetimbersofnorthwood.com/event/thoma-swenson/
END:VEVENT
BEGIN:VEVENT
DTSTART;VALUE=DATE:20260911
DTEND;VALUE=DATE:20260914
DTSTAMP:20260420T132910
CREATED:20260416T150018Z
LAST-MODIFIED:20260416T150018Z
UID:1123-1789084800-1789343999@thetimbersofnorthwood.com
SUMMARY:Ewen/Stricker
DESCRIPTION:
URL:https://thetimbersofnorthwood.com/event/ewen-stricker/
END:VEVENT
BEGIN:VEVENT
DTSTART;VALUE=DATE:20260918
DTEND;VALUE=DATE:20260921
DTSTAMP:20260420T132910
CREATED:20260416T150052Z
LAST-MODIFIED:20260416T150052Z
UID:1125-1789689600-1789948799@thetimbersofnorthwood.com
SUMMARY:Leibeg/Anderson
DESCRIPTION:
URL:https://thetimbersofnorthwood.com/event/leibeg-anderson/
END:VEVENT
BEGIN:VEVENT
DTSTART;VALUE=DATE:20260925
DTEND;VALUE=DATE:20260928
DTSTAMP:20260420T132910
CREATED:20260416T150125Z
LAST-MODIFIED:20260416T150125Z
UID:1127-1790294400-1790553599@thetimbersofnorthwood.com
SUMMARY:Verhalen/Finn
DESCRIPTION:
URL:https://thetimbersofnorthwood.com/event/verhalen-finn/
END:VEVENT
BEGIN:VEVENT
DTSTART;VALUE=DATE:20261002
DTEND;VALUE=DATE:20261005
DTSTAMP:20260420T132910
CREATED:20260416T150147Z
LAST-MODIFIED:20260416T150147Z
UID:1129-1790899200-1791158399@thetimbersofnorthwood.com
SUMMARY:Cantu/
DESCRIPTION:
URL:https://thetimbersofnorthwood.com/event/cantu/
END:VEVENT
BEGIN:VEVENT
DTSTART;VALUE=DATE:20261009
DTEND;VALUE=DATE:20261012
DTSTAMP:20260420T132910
CREATED:20260416T150223Z
LAST-MODIFIED:20260416T150223Z
UID:1131-1791504000-1791763199@thetimbersofnorthwood.com
SUMMARY:Nesje/Sipple
DESCRIPTION:
URL:https://thetimbersofnorthwood.com/event/nesje-sipple/
END:VEVENT
BEGIN:VEVENT
DTSTART;VALUE=DATE:20261016
DTEND;VALUE=DATE:20261019
DTSTAMP:20260420T132910
CREATED:20260416T150251Z
LAST-MODIFIED:20260416T150251Z
UID:1133-1792108800-1792367999@thetimbersofnorthwood.com
SUMMARY:Hansen/Edwin
DESCRIPTION:
URL:https://thetimbersofnorthwood.com/event/hansen-edwin/
END:VEVENT
BEGIN:VEVENT
DTSTART;VALUE=DATE:20261107
DTEND;VALUE=DATE:20261108
DTSTAMP:20260420T132910
CREATED:20260416T153754Z
LAST-MODIFIED:20260416T153754Z
UID:1207-1794009600-1794095999@thetimbersofnorthwood.com
SUMMARY:Veterans appreciation party
DESCRIPTION:
URL:https://thetimbersofnorthwood.com/event/veterans-appreciation-party/
END:VEVENT
BEGIN:VEVENT
DTSTART;VALUE=DATE:20261113
DTEND;VALUE=DATE:20261116
DTSTAMP:20260420T132910
CREATED:20260416T150327Z
LAST-MODIFIED:20260416T150327Z
UID:1135-1794528000-1794787199@thetimbersofnorthwood.com
SUMMARY:Knudtson/Stepleton
DESCRIPTION:
URL:https://thetimbersofnorthwood.com/event/knudtson-stepleton/
END:VEVENT
BEGIN:VEVENT
DTSTART;TZID=UTC:20261120T080000
DTEND;TZID=UTC:20261122T170000
DTSTAMP:20260420T132910
CREATED:20260416T150355Z
LAST-MODIFIED:20260416T150355Z
UID:1137-1795161600-1795366800@thetimbersofnorthwood.com
SUMMARY:Byrnes/
DESCRIPTION:
URL:https://thetimbersofnorthwood.com/event/byrnes/
END:VEVENT
END:VCALENDAR