BEGIN:VCALENDAR
VERSION:2.0
PRODID:-//The Timbers Of Northwood - ECPv6.15.20//NONSGML v1.0//EN
CALSCALE:GREGORIAN
METHOD:PUBLISH
X-WR-CALNAME:The Timbers Of Northwood
X-ORIGINAL-URL:https://thetimbersofnorthwood.com
X-WR-CALDESC:Events for The Timbers Of Northwood
REFRESH-INTERVAL;VALUE=DURATION:PT1H
X-Robots-Tag:noindex
X-PUBLISHED-TTL:PT1H
BEGIN:VTIMEZONE
TZID:UTC
BEGIN:STANDARD
TZOFFSETFROM:+0000
TZOFFSETTO:+0000
TZNAME:UTC
DTSTART:20250101T000000
END:STANDARD
END:VTIMEZONE
BEGIN:VEVENT
DTSTART;VALUE=DATE:20260411
DTEND;VALUE=DATE:20260412
DTSTAMP:20260418T080943
CREATED:20260416T155747Z
LAST-MODIFIED:20260416T155837Z
UID:1236-1775865600-1775951999@thetimbersofnorthwood.com
SUMMARY:Christianson shower
DESCRIPTION:
URL:https://thetimbersofnorthwood.com/event/christianson-shower-2/
END:VEVENT
BEGIN:VEVENT
DTSTART;TZID=UTC:20260409T160000
DTEND;TZID=UTC:20260409T170000
DTSTAMP:20260418T080943
CREATED:20260409T210748Z
LAST-MODIFIED:20260409T210748Z
UID:1095-1775750400-1775754000@thetimbersofnorthwood.com
SUMMARY:Bingo
DESCRIPTION:
URL:https://thetimbersofnorthwood.com/event/bingo-2/
END:VEVENT
BEGIN:VEVENT
DTSTART;VALUE=DATE:20260404
DTEND;VALUE=DATE:20260405
DTSTAMP:20260418T080943
CREATED:20260416T152742Z
LAST-MODIFIED:20260416T152742Z
UID:1173-1775260800-1775347199@thetimbersofnorthwood.com
SUMMARY:Gordon shower
DESCRIPTION:
URL:https://thetimbersofnorthwood.com/event/gordon-shower/
END:VEVENT
BEGIN:VEVENT
DTSTART;VALUE=DATE:20260328
DTEND;VALUE=DATE:20260329
DTSTAMP:20260418T080943
CREATED:20260416T152725Z
LAST-MODIFIED:20260416T152725Z
UID:1171-1774656000-1774742399@thetimbersofnorthwood.com
SUMMARY:Youth wrestling banquet
DESCRIPTION:
URL:https://thetimbersofnorthwood.com/event/youth-wrestling-banquet/
END:VEVENT
BEGIN:VEVENT
DTSTART;VALUE=DATE:20260328
DTEND;VALUE=DATE:20260329
DTSTAMP:20260418T080943
CREATED:20260416T152701Z
LAST-MODIFIED:20260416T152701Z
UID:1169-1774656000-1774742399@thetimbersofnorthwood.com
SUMMARY:Christianson bday
DESCRIPTION:
URL:https://thetimbersofnorthwood.com/event/christianson-bday/
END:VEVENT
BEGIN:VEVENT
DTSTART;VALUE=DATE:20260323
DTEND;VALUE=DATE:20260326
DTSTAMP:20260418T080943
CREATED:20260416T152632Z
LAST-MODIFIED:20260416T152632Z
UID:1167-1774224000-1774483199@thetimbersofnorthwood.com
SUMMARY:FLC - Feed the Children
DESCRIPTION:
URL:https://thetimbersofnorthwood.com/event/flc-feed-the-children/
END:VEVENT
BEGIN:VEVENT
DTSTART;VALUE=DATE:20260319
DTEND;VALUE=DATE:20260320
DTSTAMP:20260418T080943
CREATED:20260416T150659Z
LAST-MODIFIED:20260416T150659Z
UID:1151-1773878400-1773964799@thetimbersofnorthwood.com
SUMMARY:Bingo
DESCRIPTION:
URL:https://thetimbersofnorthwood.com/event/bingo-7/
END:VEVENT
BEGIN:VEVENT
DTSTART;VALUE=DATE:20260314
DTEND;VALUE=DATE:20260315
DTSTAMP:20260418T080943
CREATED:20260416T152604Z
LAST-MODIFIED:20260416T152604Z
UID:1165-1773446400-1773532799@thetimbersofnorthwood.com
SUMMARY:Smith funeral
DESCRIPTION:
URL:https://thetimbersofnorthwood.com/event/smith-funeral/
END:VEVENT
BEGIN:VEVENT
DTSTART;VALUE=DATE:20260307
DTEND;VALUE=DATE:20260308
DTSTAMP:20260418T080943
CREATED:20260416T152542Z
LAST-MODIFIED:20260416T152542Z
UID:1163-1772841600-1772927999@thetimbersofnorthwood.com
SUMMARY:Putt Putt
DESCRIPTION:
URL:https://thetimbersofnorthwood.com/event/putt-putt/
END:VEVENT
BEGIN:VEVENT
DTSTART;VALUE=DATE:20260305
DTEND;VALUE=DATE:20260306
DTSTAMP:20260418T080943
CREATED:20260416T150635Z
LAST-MODIFIED:20260416T150635Z
UID:1149-1772668800-1772755199@thetimbersofnorthwood.com
SUMMARY:Bingo
DESCRIPTION:
URL:https://thetimbersofnorthwood.com/event/bingo-6/
END:VEVENT
BEGIN:VEVENT
DTSTART;VALUE=DATE:20260228
DTEND;VALUE=DATE:20260301
DTSTAMP:20260418T080943
CREATED:20260216T093439Z
LAST-MODIFIED:20260216T093439Z
UID:707-1772236800-1772323199@thetimbersofnorthwood.com
SUMMARY:Hayseeders Ball
DESCRIPTION:
URL:https://thetimbersofnorthwood.com/event/hayseeders-ball/
END:VEVENT
BEGIN:VEVENT
DTSTART;VALUE=DATE:20260227
DTEND;VALUE=DATE:20260228
DTSTAMP:20260418T080943
CREATED:20260416T150910Z
LAST-MODIFIED:20260416T150910Z
UID:1159-1772150400-1772236799@thetimbersofnorthwood.com
SUMMARY:ADA Christmas party
DESCRIPTION:
URL:https://thetimbersofnorthwood.com/event/ada-christmas-party/
END:VEVENT
BEGIN:VEVENT
DTSTART;VALUE=DATE:20260219
DTEND;VALUE=DATE:20260220
DTSTAMP:20260418T080943
CREATED:20260416T150614Z
LAST-MODIFIED:20260416T150614Z
UID:1147-1771459200-1771545599@thetimbersofnorthwood.com
SUMMARY:Bingo
DESCRIPTION:
URL:https://thetimbersofnorthwood.com/event/bingo-5/
END:VEVENT
BEGIN:VEVENT
DTSTART;VALUE=DATE:20260214
DTEND;VALUE=DATE:20260215
DTSTAMP:20260418T080943
CREATED:20260416T150847Z
LAST-MODIFIED:20260416T150847Z
UID:1157-1771027200-1771113599@thetimbersofnorthwood.com
SUMMARY:Dance Your Heart Out
DESCRIPTION:
URL:https://thetimbersofnorthwood.com/event/dance-your-heart-out/
END:VEVENT
BEGIN:VEVENT
DTSTART;VALUE=DATE:20260205
DTEND;VALUE=DATE:20260206
DTSTAMP:20260418T080943
CREATED:20260416T150557Z
LAST-MODIFIED:20260416T150557Z
UID:1145-1770249600-1770335999@thetimbersofnorthwood.com
SUMMARY:Bingo
DESCRIPTION:
URL:https://thetimbersofnorthwood.com/event/bingo-4/
END:VEVENT
BEGIN:VEVENT
DTSTART;VALUE=DATE:20260130
DTEND;VALUE=DATE:20260131
DTSTAMP:20260418T080943
CREATED:20260416T150823Z
LAST-MODIFIED:20260416T150823Z
UID:1155-1769731200-1769817599@thetimbersofnorthwood.com
SUMMARY:Rugland Christmas
DESCRIPTION:
URL:https://thetimbersofnorthwood.com/event/rugland-christmas/
END:VEVENT
BEGIN:VEVENT
DTSTART;VALUE=DATE:20260122
DTEND;VALUE=DATE:20260123
DTSTAMP:20260418T080943
CREATED:20260416T150801Z
LAST-MODIFIED:20260416T150801Z
UID:1153-1769040000-1769126399@thetimbersofnorthwood.com
SUMMARY:Twins Caravan
DESCRIPTION:
URL:https://thetimbersofnorthwood.com/event/twins-caravan/
END:VEVENT
BEGIN:VEVENT
DTSTART;VALUE=DATE:20260108
DTEND;VALUE=DATE:20260109
DTSTAMP:20260418T080943
CREATED:20260416T150517Z
LAST-MODIFIED:20260416T150517Z
UID:1143-1767830400-1767916799@thetimbersofnorthwood.com
SUMMARY:Bingo
DESCRIPTION:
URL:https://thetimbersofnorthwood.com/event/bingo-3/
END:VEVENT
END:VCALENDAR